BEGIN:VCALENDAR
VERSION:2.0
PRODID:-//ABC Eastern PA Chapter - ECPv6.15.12.2//NONSGML v1.0//EN
CALSCALE:GREGORIAN
METHOD:PUBLISH
X-WR-CALNAME:ABC Eastern PA Chapter
X-ORIGINAL-URL:https://abceastpa.org
X-WR-CALDESC:Events for ABC Eastern PA Chapter
REFRESH-INTERVAL;VALUE=DURATION:PT1H
X-Robots-Tag:noindex
X-PUBLISHED-TTL:PT1H
BEGIN:VTIMEZONE
TZID:America/New_York
BEGIN:DAYLIGHT
TZOFFSETFROM:-0500
TZOFFSETTO:-0400
TZNAME:EDT
DTSTART:20190310T070000
END:DAYLIGHT
BEGIN:STANDARD
TZOFFSETFROM:-0400
TZOFFSETTO:-0500
TZNAME:EST
DTSTART:20191103T060000
END:STANDARD
BEGIN:DAYLIGHT
TZOFFSETFROM:-0500
TZOFFSETTO:-0400
TZNAME:EDT
DTSTART:20200308T070000
END:DAYLIGHT
BEGIN:STANDARD
TZOFFSETFROM:-0400
TZOFFSETTO:-0500
TZNAME:EST
DTSTART:20201101T060000
END:STANDARD
BEGIN:DAYLIGHT
TZOFFSETFROM:-0500
TZOFFSETTO:-0400
TZNAME:EDT
DTSTART:20210314T070000
END:DAYLIGHT
BEGIN:STANDARD
TZOFFSETFROM:-0400
TZOFFSETTO:-0500
TZNAME:EST
DTSTART:20211107T060000
END:STANDARD
END:VTIMEZONE
BEGIN:VEVENT
DTSTART;TZID=America/New_York:20201002T090000
DTEND;TZID=America/New_York:20201002T110000
DTSTAMP:20260419T174253
CREATED:20200925T192814Z
LAST-MODIFIED:20201001T173059Z
UID:23538-1601629200-1601636400@abceastpa.org
SUMMARY:Cybersecurity
DESCRIPTION:Learn how to elevate the role of security within your organization. Build your cyber resilience and protect your business.
URL:https://abceastpa.org/event/cybersecurity/
CATEGORIES:Classes
END:VEVENT
BEGIN:VEVENT
DTSTART;TZID=America/New_York:20201003T080000
DTEND;TZID=America/New_York:20201003T150000
DTSTAMP:20260419T174253
CREATED:20200925T192941Z
LAST-MODIFIED:20201001T173747Z
UID:23540-1601712000-1601737200@abceastpa.org
SUMMARY:OSHA 10 Hour Certification
DESCRIPTION:This 2 day course (October 3rd & 10th) is designed to provide an overview of required safety regulations to meet Federal OSHA Standards on all construction sites and for all trades. It covers an introduction to OSHA\, fall protection\, electrical safety\, personal protective equipment\, material handling\, HazCom\, scaffolds\, ladders\, trenching\, confined spaces and fire protection.
URL:https://abceastpa.org/event/osha-10-hour-certification/
CATEGORIES:Classes
END:VEVENT
BEGIN:VEVENT
DTSTART;TZID=America/New_York:20201003T080000
DTEND;TZID=America/New_York:20201003T170000
DTSTAMP:20260419T174253
CREATED:20200925T193040Z
LAST-MODIFIED:20201001T173520Z
UID:23542-1601712000-1601744400@abceastpa.org
SUMMARY:OSHA 30 Hour Certification
DESCRIPTION:This in-depth 4 day course (October 3rd – 10th\, 17th\, 24th) is designed to educate construction professionals on federal regulations and compliance. It is a must for those desiring a complete understanding of OSHA regulations. The course is also instructive on how to communicate critical safety information to other employees.
URL:https://abceastpa.org/event/osha-30-hour-certification/
CATEGORIES:Classes
END:VEVENT
BEGIN:VEVENT
DTSTART;TZID=America/New_York:20201006T083000
DTEND;TZID=America/New_York:20201006T123000
DTSTAMP:20260419T174253
CREATED:20200925T193336Z
LAST-MODIFIED:20201001T173722Z
UID:23544-1601973000-1601987400@abceastpa.org
SUMMARY:Project Management Skills
DESCRIPTION:In the Essentials of Construction Project Management\, people who are new to project management will learn the ten major steps in a construction project. You’ll start by negotiating with the customer/owner and establishing the project scope in precise\, measurable terms. Then you’ll move on to gather requirements from the other project stakeholders. Next\, you’ll learn how to build the schedule and budget using project management software. 4 day class Oct 6th\, 13th\, 20th\, & 27th.
URL:https://abceastpa.org/event/project-management-skills/
CATEGORIES:Classes
END:VEVENT
BEGIN:VEVENT
DTSTART;TZID=America/New_York:20201007T083000
DTEND;TZID=America/New_York:20201007T163000
DTSTAMP:20260419T174253
CREATED:20201001T171853Z
LAST-MODIFIED:20201001T171933Z
UID:23601-1602059400-1602088200@abceastpa.org
SUMMARY:Confined Spaces
DESCRIPTION:Understand OSHA’s requirement for confined space in construction and hazard recognition. Understand the roles for confined space entry employees\, training requirements\, pre-planning and safe work activities. Identify different types of confined spaces in the Construction Industry.
URL:https://abceastpa.org/event/confined-spaces/
CATEGORIES:Classes
END:VEVENT
BEGIN:VEVENT
DTSTART;TZID=America/New_York:20201013T090000
DTEND;TZID=America/New_York:20201013T110000
DTSTAMP:20260419T174253
CREATED:20200925T190619Z
LAST-MODIFIED:20210401T174607Z
UID:23531-1602579600-1602586800@abceastpa.org
SUMMARY:Get a Grip on your Business
DESCRIPTION:This course is all about how to grow your construction business\, whatever market sector you are in and will enable you to discover key principles and strategies to develop your sales pipeline and grow in profitability. We tech proven strategies that have worked for over many years in the construction industry.
URL:https://abceastpa.org/event/get-a-grip-on-your-business/
CATEGORIES:Classes
END:VEVENT
END:VCALENDAR